Workbook

Sheet Lohnabrechnung
A1: Arbeitgeber:
A2: Name, Vorname:
A3: Adresse
A4: PLZ, Ort
A5: Angestellter
A6: Name, Vorname:
A7: AHV-Nr. | D7: Geb.datum:
A8: Zivilstand | D8: Nationalität:
A10: Lohn | B10: vom | D10: bis | F10: CHF
A11: Barlohn | D11: Std. | F11: =C11*E11 -> 0
A12: Naturallohn - Verpflegung und Unterkunft
A13: Komplett ganzer Monat | C13: ja/nein | F13: =IF(C13="Ja",990,0) -> 0
A14: Komplett pro Tag | D14: à | E14: 33 | F14: =E14*C14 -> 0
A15: Frühstück | D15: à | E15: 3.5 | F15: =E15*C15 -> 0
A16: Mittagessen | D16: à | E16: 10 | F16: =E16*C16 -> 0
A17: Nachtessen | D17: à | E17: 8 | F17: =E17*C17 -> 0
A18: Logis/Unterkunft | D18: à | E18: 11.5 | F18: =E18*C18 -> 0
A19: Andere Naturalbezüge:
A21: Andere AHV-beitragspflichtige Leistungen
A22: Überstunden | D22: Std. à | E22: =E11*1.25 -> 0 | F22: =C22*E22 -> 0
A23: Freizeit und Ferienentschädigung | D23: Tage à | E23: 0 | F23: =C23*E23 -> 0
A25: AHV-pflichtiger Bruttolohn | F25: =SUM(F11:F24) -> 0
A27: Abzüge
A28: AHV, IV, EO, ALV | E28: 0.064 | F28: =E28*F25 -> 0
A29: Krankenpflegeversicherung (100% zL. Arbeitnehmer) | F29: =E29*$F$25 -> 0
A30: Krankentaggeldversicherung (50% zL Arbeitnehmer) | F30: =E30*$F$25 -> 0
A31: Nichtberufsunfallversicherung (100% zL Arbeitnehmer) | F31: =E31*$F$25 -> 0
A32: Berufliche Vorsorge | F32: =E32*$F$25 -> 0
A33: Quellensteuer | F33: =E33*$F$25 -> 0
A34: Naturallohn | F34: =SUM(F12:F20) -> 0
A35: Vorschuss
A36: ………………….
A38: Nicht AHV-beitragspflichtige Leistungen
A39: Kinder- und Familienzulagen
A40: Spesen
A41: Kostgeldentschädigungen (nicht bezogene Naturallohn)
A42: Frühstück | D42: à | E42: 3.5 | F42: =E42*C42 -> 0
A43: Mittagessen | D43: à | E43: 10 | F43: =E43*C43 -> 0
A44: Nachtessen | D44: à | E44: 8 | F44: =E44*C44 -> 0
A45: Anderes
...

Sheet Überstunden
A1: Arbeitgeber: | C1: =Lohnabrechnung!B2&" "&Lohnabrechnung!F3
A2: Arbeitnehmer: | C2: =Lohnabrechnung!B6 -> 0
A3: AHV-Nr. | C3: =Lohnabrechnung!B7 -> 0
A4: Abrechnungsperiode | C4: =Lohnabrechnung!C10 -> 0 | D4: bis | E4: =Lohnabrechnung!E10 -> 0
A7: Tag | B7: Stundenzahl | C7: Überstunden | D7: Bemerkungen
A8: 1
A9: =A8+1 -> 2
A10: =A9+1 -> 3
A11: =A10+1 -> 4
A12: =A11+1 -> 5
A13: =A12+1 -> 6
A14: =A13+1 -> 7
A15: =A14+1 -> 8
A16: =A15+1 -> 9
A17: =A16+1 -> 10
A18: =A17+1 -> 11
A19: =A18+1 -> 12
A20: =A19+1 -> 13
... A38: =A37+1 -> 31
A39: Total | B39: =SUM(B8:B38) -> 0 | C39: =SUM(C8:C38) -> 0
